BEGIN:VCALENDAR
VERSION:2.0
PRODID:-//Tukios.com/
BEGIN:VEVENT
UID:74adaa92-d2af-4dc3-bc7e-729468e2f007@www.vossfh.com
DTSTAMP:20260420T193624Z
DTSTART:20260424T143000Z
DTEND:20260424T160000Z
SUMMARY:Visitation
DESCRIPTION:
URL:https://www.vossfh.com/obituaries/albert-kemp-jr
LOCATION: 400 Congress Ave  Viroqua WI 54665
GEO:43.5594868;-90.898131
END:VEVENT
END:VCALENDAR