BEGIN:VCALENDAR
VERSION:2.0
PRODID:-//Tukios.com/
BEGIN:VEVENT
UID:0b967aba-7fef-4d16-bdd3-d8281e6b397e@www.vossfh.com
DTSTAMP:20260420T193329Z
DTSTART:20260424T160000Z
DTEND:20260424T170000Z
SUMMARY:Mass
DESCRIPTION:
URL:https://www.vossfh.com/obituaries/albert-kemp-jr
LOCATION: 400 Congress Ave  Viroqua WI 54665
GEO:43.5594868;-90.898131
END:VEVENT
END:VCALENDAR