BEGIN:VCALENDAR
VERSION:2.0
PRODID:-//Tukios.com/
BEGIN:VEVENT
UID:47837f82-c00a-4475-bf00-511661de33ea@www.vossfh.com
DTSTAMP:20260419T195326Z
DTSTART:20260422T220000Z
DTEND:20260423T000000Z
SUMMARY:Visitation
DESCRIPTION:
URL:https://www.vossfh.com/obituaries/jerrold-buros
LOCATION: 708 South Main Street  Westby WI 54667
GEO:43.6452669;-90.8642697
END:VEVENT
END:VCALENDAR