BEGIN:VCALENDAR
VERSION:2.0
PRODID:-//Tukios.com/
BEGIN:VEVENT
UID:aad6656b-1992-4f0e-aeb5-d9ab37712807@www.vossfh.com
DTSTAMP:20260419T195225Z
DTSTART:20260423T170000Z
DTEND:20260423T180000Z
SUMMARY:Visitation
DESCRIPTION:
URL:https://www.vossfh.com/obituaries/jerrold-buros
LOCATION: 708 South Main Street  Westby WI 54667
GEO:43.6452669;-90.8642697
END:VEVENT
END:VCALENDAR