BEGIN:VCALENDAR
VERSION:2.0
PRODID:-//Tukios.com/
BEGIN:VEVENT
UID:a257517a-4865-4186-b0b6-8b274672e5b2@www.vossfh.com
DTSTAMP:20260419T194648Z
DTSTART:20260423T180000Z
DTEND:20260423T190000Z
SUMMARY:Funeral Service
DESCRIPTION:
URL:https://www.vossfh.com/obituaries/jerrold-buros
LOCATION: 708 South Main Street  Westby WI 54667
GEO:43.6452669;-90.8642697
END:VEVENT
END:VCALENDAR