BEGIN:VCALENDAR
VERSION:2.0
PRODID:-//Tukios.com/
BEGIN:VEVENT
UID:520affbf-36d8-4bd5-ab71-f36823e81771@www.vossfh.com
DTSTAMP:20260421T175302Z
DTSTART:20260501T180000Z
DTEND:20260501T200000Z
SUMMARY:Celebration of Life
DESCRIPTION:
URL:https://www.vossfh.com/obituaries/linda-fisher
LOCATION: 123 W Decker St  Viroqua WI 54665
GEO:43.5567458;-90.8901793
END:VEVENT
END:VCALENDAR