BEGIN:VCALENDAR
VERSION:2.0
PRODID:-//Tukios.com/
BEGIN:VEVENT
UID:c627da67-ff60-4dfc-8c92-6f20328ed151@www.vossfh.com
DTSTAMP:20260420T000155Z
DTSTART:20260425T140000Z
DTEND:20260425T160000Z
SUMMARY:Visitation
DESCRIPTION:
URL:https://www.vossfh.com/obituaries/marlene-buros
LOCATION: 500 South Main Street  Westby WI 54667
GEO:43.6498173;-90.8599688
END:VEVENT
END:VCALENDAR