BEGIN:VCALENDAR
VERSION:2.0
PRODID:-//Tukios.com/
BEGIN:VEVENT
UID:87b291fe-f711-4de3-8822-7314462532a3@www.vossfh.com
DTSTAMP:20260420T000257Z
DTSTART:20260425T160000Z
DTEND:20260425T170000Z
SUMMARY:Funeral Service
DESCRIPTION:
URL:https://www.vossfh.com/obituaries/marlene-buros
LOCATION: 500 South Main Street  Westby WI 54667
GEO:43.6498173;-90.8599688
END:VEVENT
END:VCALENDAR